BEGIN:VCALENDAR
VERSION:2.0
PRODID:icalendar-ruby
CALSCALE:GREGORIAN
BEGIN:VTIMEZONE
TZID:America/New_York
BEGIN:DAYLIGHT
DTSTART:20260308T030000
TZOFFSETFROM:-0500
TZOFFSETTO:-0400
RRULE:FREQ=YEARLY;BYDAY=2SU;BYMONTH=3
TZNAME:EDT
END:DAYLIGHT
BEGIN:STANDARD
DTSTART:20261101T010000
TZOFFSETFROM:-0400
TZOFFSETTO:-0500
RRULE:FREQ=YEARLY;BYDAY=1SU;BYMONTH=11
TZNAME:EST
END:STANDARD
END:VTIMEZONE
BEGIN:VEVENT
DTSTAMP:20260422T115724Z
UID:https://lancaster.helpfulvillage.com/events/1288
DTSTART;TZID=America/New_York:20260505T150000
DTEND;TZID=America/New_York:20260505T160000
CLASS:PRIVATE
CREATED:20260418T140707
DESCRIPTION:
LAST-MODIFIED:20260418T140707
LOCATION:Conexion at Landis Place on King\, 239 W. King Street\, Lancaster\
 , PA 17603
SUMMARY:Village event: Great Courses - Weekly on Tuesdays\, 3 pm
URL;VALUE=URI:https://lancaster.helpfulvillage.com/events/1288
END:VEVENT
END:VCALENDAR
